BEGIN:VCALENDAR
VERSION:2.0
PRODID:-//Plone.org//NONSGML plone.app.event//EN
X-WR-TIMEZONE:Europe/Rome
BEGIN:VEVENT
SUMMARY:Economia e Management | Evento “Estimating the green wage premiu
 m”
DTSTART;TZID=Europe/Rome:20260420T113000
DTEND;TZID=Europe/Rome:20260420T130000
DTSTAMP:20260419T172008Z
UID:48abb92cc8ca4fe8b60635740d86fb2f@plone6.unife.it:8059
CATEGORIES:dipartimento di economia e management,HP
CREATED:20260402T075836Z
LAST-MODIFIED:20260413T102809Z
LOCATION:DIpartimento di economia e Management - Via Voltapaletto\, 11 - F
 errara
URL:https://giuri.unife.it/unife/it/eventi/2026/aprile/estimating-the-gree
 n-wage-premium
END:VEVENT
BEGIN:VTIMEZONE
TZID:Europe/Rome
X-LIC-LOCATION:Europe/Rome
BEGIN:DAYLIGHT
DTSTART:20260329T030000
TZNAME:CEST
TZOFFSETFROM:+0100
TZOFFSETTO:+0200
END:DAYLIGHT
END:VTIMEZONE
END:VCALENDAR
